BEGIN:VCALENDAR
VERSION:2.0
PRODID:-//Sabre//Sabre VObject 4.5.3//EN
CALSCALE:GREGORIAN
BEGIN:VEVENT
UID:sabre-vobject-038dfcf0-85b7-477d-8cc5-9e3705375d80
DTSTAMP:20260422T005129Z
SUMMARY:Kirchenmusiker Herr Charles Muchingile
DTSTART:20200510T100000Z
DTEND:20301129T110000Z
END:VEVENT
END:VCALENDAR
