BEGIN:VCALENDAR
VERSION:2.0
PRODID:-//Sabre//Sabre VObject 4.5.3//EN
CALSCALE:GREGORIAN
BEGIN:VEVENT
UID:sabre-vobject-1e9ad4b8-a3a2-47e6-8c1d-39381e5eb790
DTSTAMP:20260421T144849Z
SUMMARY:Alleinerziehenden "Stammtisch" SUPERHELDEN in Weißenhorn
DTSTART:20260426T070000Z
DTEND:20260426T100000Z
END:VEVENT
END:VCALENDAR
