BEGIN:VCALENDAR
VERSION:2.0
PRODID:-//Sabre//Sabre VObject 4.5.3//EN
CALSCALE:GREGORIAN
BEGIN:VEVENT
UID:sabre-vobject-6d3fc268-9a75-48ec-a9a9-fc16e614f722
DTSTAMP:20260422T050111Z
SUMMARY:Lebendiges Miteinander - Gemeinsam gestalten gefällt mir - Abend f
 ür das Dekanat Neuburg-Schrobenhausen
DTSTART:20260617T170000Z
DTEND:20260617T193000Z
END:VEVENT
END:VCALENDAR
