BEGIN:VCALENDAR
VERSION:2.0
PRODID:-//Sabre//Sabre VObject 4.5.3//EN
CALSCALE:GREGORIAN
BEGIN:VEVENT
UID:sabre-vobject-daeec416-c1d7-47f0-83c0-55bd56a4bd6d
DTSTAMP:20260422T050106Z
SUMMARY:Lebendiges Miteinander - Gemeinsam gestalten gefällt mir - Abend f
 ür das Dekanat Pfaffenhofen
DTSTART:20260618T173000Z
DTEND:20260618T200000Z
END:VEVENT
END:VCALENDAR
