BEGIN:VCALENDAR
VERSION:2.0
PRODID:-//Sabre//Sabre VObject 4.5.3//EN
CALSCALE:GREGORIAN
BEGIN:VEVENT
UID:sabre-vobject-be329af8-a3f9-4f4f-9ced-64e150b491c0
DTSTAMP:20260419T233229Z
SUMMARY:Pfarrfest mit Familiengottesdienst
DTSTART:20260628T080000Z
DTEND:20260628T133000Z
END:VEVENT
END:VCALENDAR
